BEGIN:VCALENDAR
VERSION:2.0
METHOD:PUBLISH
PRODID:-//Accessible Web Design//My Calendar//http://www.joedolson.com//v//EN';
BEGIN:VEVENT
UID:3-3
LOCATION:
SUMMARY:Testveranstaltung
DTSTAMP:20230703
ORGANIZER;CN=Kamal Lakhal:MAILTO:kamal.lakhal@sis-schwerin.de
DTSTART:20230703
DTEND:20230704
CATEGORIES:General
URL;VALUE=URI:https://fz-stb.de/mc-events/testveranstaltung-2/?mc_id=3
DESCRIPTION;ENCODING=QUOTED-PRINTABLE:Festveranstaltung
X-FUNAMBOL-ALLDAY: 1
X-MICROSOFT-CDO-ALLDAYEVENT: TRUE

END:VEVENT
END:VCALENDAR